BEGIN:VCALENDAR
VERSION:2.0
PRODID:-//LKSIG - ECPv6.15.15//NONSGML v1.0//EN
CALSCALE:GREGORIAN
METHOD:PUBLISH
X-ORIGINAL-URL:https://lksig.org
X-WR-CALDESC:Events for LKSIG
REFRESH-INTERVAL;VALUE=DURATION:PT1H
X-Robots-Tag:noindex
X-PUBLISHED-TTL:PT1H
BEGIN:VTIMEZONE
TZID:UTC
BEGIN:STANDARD
TZOFFSETFROM:+0000
TZOFFSETTO:+0000
TZNAME:UTC
DTSTART:20230101T000000
END:STANDARD
END:VTIMEZONE
BEGIN:VEVENT
DTSTART;TZID=UTC:20241212T090000
DTEND;TZID=UTC:20241213T123000
DTSTAMP:20260422T095938
CREATED:20241111T174101Z
LAST-MODIFIED:20260125T173355Z
UID:5648-1733994000-1734093000@lksig.org
SUMMARY:IGF Sri Lanka 2024
DESCRIPTION:For the third time\, the Lanka School on Internet Governance (LKSIG)\, the official local representative of the Asia Pacific School on Internet Governance (APSIG) in Sri Lanka\, has scheduled IGF Sri Lanka 2024 which will take place from 12th to 13th December 2024 at the Manderina Colombo\, under the theme “Empowering the Internet Through Multistakeholderism.” The event will feature five tracks\, ten high-level panels\, and over 50 expert panelists\, offering diverse insights into key areas of Internet governance. The IGF Sri Lanka 2024 brings together policymakers\, civil society\, industry\, the technical community\, the academic community\, and decision-makers to discuss key aspects of Internet governance issues and key areas on an equal footing and through an open and inclusive process.
URL:https://lksig.org/event/igf-sri-lanka-2024/
LOCATION:Colombo\, Sri Lanka
CATEGORIES:AI,Community,Education,Internet,Organization,Women
ATTACH;FMTTYPE=image/png:https://lksig.org/wp-content/uploads/2024/11/Site.png
END:VEVENT
END:VCALENDAR