BEGIN:VCALENDAR
VERSION:2.0
PRODID:-//LKSIG - ECPv6.15.15//NONSGML v1.0//EN
CALSCALE:GREGORIAN
METHOD:PUBLISH
X-WR-CALNAME:LKSIG
X-ORIGINAL-URL:https://lksig.org
X-WR-CALDESC:Events for LKSIG
REFRESH-INTERVAL;VALUE=DURATION:PT1H
X-Robots-Tag:noindex
X-PUBLISHED-TTL:PT1H
BEGIN:VTIMEZONE
TZID:UTC
BEGIN:STANDARD
TZOFFSETFROM:+0000
TZOFFSETTO:+0000
TZNAME:UTC
DTSTART:20230101T000000
END:STANDARD
END:VTIMEZONE
BEGIN:VEVENT
DTSTART;TZID=UTC:20240821T090000
DTEND;TZID=UTC:20240823T180000
DTSTAMP:20260422T154918
CREATED:20231121T103559Z
LAST-MODIFIED:20240731T045431Z
UID:2541-1724230800-1724436000@lksig.org
SUMMARY:APrIGF 2024
DESCRIPTION:APrIGF 2024 \nHybrid – Taipei \nOverarching Theme:\nEvolving Ecosystems\, Enduring Principles: Shaping Responsible Internet Governance \nDate: 21-23 August 2024\nLocation: NTUH International Convention Center\,\nTaipei X Virtual\nHost: TWNIC (Taiwan Network Information Center) \nAsia Pacific Regional Internet Governance Forum (APrIGF) serves as a platform for discussion\, exchange and collaboration at a regional level\, and also where possible to aggregate national IGF discussions\, ultimately advance the Internet governance development in the Asia Pacific region. \nIn 2010\, while the global IGF is already in its fifth and final year of its initial charter\, and Regional IGFs have been established in many other regions\, including Africa\, Europe\, Latin America and the Caribbean\, to date\, Asia has seen no parallel forum for discussing Internet governance issues at a regional level. For the first time\, the APrIGF is therefore being convened with objectives to raise awareness and encourage participation from relevant stakeholders around the region on Internet governance issues\, as well as to foster multi-lateral\, multi-stakeholder discussion about issues pertinent to the Internet in Asia. \nThe multi-stakeholder approach is a core principle of the APrIGF with the emphasis on the diversity of participants and openness of the discussion. Valuing the youth as an important stakeholder and the future generations of the Internet\, a Youth IGF also become an integral part of the APrIGF whereby they are held in parallel annually featuring a simulation of the multi-stakeholder discussion model among the young people on various Internet governance issues.
URL:https://lksig.org/event/aprigf-2024/
LOCATION:Taipei\, Taiwan
CATEGORIES:Community,Education,Internet,Organization
ATTACH;FMTTYPE=image/jpeg:https://lksig.org/wp-content/uploads/2023/11/aprigf2024-taipei-announcement-crop.jpg
ORGANIZER;CN="APrIGF":MAILTO:https://ap.rigf.asia/
END:VEVENT
END:VCALENDAR