BEGIN:VCALENDAR
VERSION:2.0
PRODID:-//LKSIG - ECPv6.15.15//NONSGML v1.0//EN
CALSCALE:GREGORIAN
METHOD:PUBLISH
X-WR-CALNAME:LKSIG
X-ORIGINAL-URL:https://lksig.org
X-WR-CALDESC:Events for LKSIG
REFRESH-INTERVAL;VALUE=DURATION:PT1H
X-Robots-Tag:noindex
X-PUBLISHED-TTL:PT1H
BEGIN:VTIMEZONE
TZID:UTC
BEGIN:STANDARD
TZOFFSETFROM:+0000
TZOFFSETTO:+0000
TZNAME:UTC
DTSTART:20230101T000000
END:STANDARD
END:VTIMEZONE
BEGIN:VEVENT
DTSTART;TZID=UTC:20240810T150000
DTEND;TZID=UTC:20240810T160000
DTSTAMP:20260422T154917
CREATED:20240804T070317Z
LAST-MODIFIED:20240804T070317Z
UID:5554-1723302000-1723305600@lksig.org
SUMMARY:Preliminary Session for Women IGF 2024
DESCRIPTION:The Role of Women in Shaping & Leading Social Media\n\n\n\nPreliminary Session for Women IGF 2024 in line with IGF Sri Lanka 2024 organized by Lanka School on Internet Governance (LKSIG)\n\n\nReserve your Date on 10th August 2024 @ 3.00 PM\n\n\n\nJoin the virtual discussion at\nhttps://zoom.us/j/99524621722\nMeeting ID: 995 2462 1722\n\n\nhttps://igfsrilanka.org/\nhttps://lksig.org/\n\n\nLike us for more https://www.facebook.com/LankaSIG/\n\n\n#trendingreels #lksig #viralpost #trend #INTERNET #conference #srilanka #IGF #apsig #igfsrilanka #igfsrilanka2024 Irudini Umali Thilakarathna Asia Pacific School on Internet Governance – APSIG
URL:https://lksig.org/event/preliminary-session-for-women-igf-2024/
LOCATION:Colombo\, Sri Lanka
CATEGORIES:Community,Education,Internet,Organization,Women
ATTACH;FMTTYPE=image/png:https://lksig.org/wp-content/uploads/2024/08/Women-IGF-Preleminary.png
END:VEVENT
END:VCALENDAR