BEGIN:VCALENDAR
VERSION:2.0
PRODID:-//LKSIG - ECPv6.15.15//NONSGML v1.0//EN
CALSCALE:GREGORIAN
METHOD:PUBLISH
X-ORIGINAL-URL:https://lksig.org
X-WR-CALDESC:Events for LKSIG
REFRESH-INTERVAL;VALUE=DURATION:PT1H
X-Robots-Tag:noindex
X-PUBLISHED-TTL:PT1H
BEGIN:VTIMEZONE
TZID:UTC
BEGIN:STANDARD
TZOFFSETFROM:+0000
TZOFFSETTO:+0000
TZNAME:UTC
DTSTART:20230101T000000
END:STANDARD
END:VTIMEZONE
BEGIN:VEVENT
DTSTART;TZID=UTC:20241004T100000
DTEND;TZID=UTC:20241004T110000
DTSTAMP:20260422T113622
CREATED:20240921T171508Z
LAST-MODIFIED:20240921T171508Z
UID:5618-1728036000-1728039600@lksig.org
SUMMARY:Preliminary Session for Tech IGF 2024 and Global Encryption Day 2024
DESCRIPTION:Do you know “Encryption safeguards the personal security of billions of people and the national security of countries around the world.”\n\n\n\nJoin the virtual discussion with Primal Wijesekera and Satish Babu on Building Trust in a Secured Digital World\n\n\nPreliminary Session for Tech IGF 2024 in line with IGF Sri Lanka 2024 and Global Encryption Day 2024 in Sri Lanka organized by Lanka School on Internet Governance (LKSIG)\n\n\n\nReserve your Date on 04th October 2024 @ 10.00 AM\n\n\n\nJoin Zoom Meeting\nhttps://zoom.us/j/92564859381\n\n\nMeeting ID: 925 6485 9381\n\n\n\nLike us for more https://www.facebook.com/LankaSIG/\nFollow us https://www.linkedin.com/company/lksig/\nhttps://igfsrilanka.org/\nhttps://www.globalencryption.org/\nhttps://lksig.org/\n\n\n\n#viralreelsシ #trendingvideo #trendingreels #lksig #viralpost #trend #INTERNET #conference #encryption #encryptionday2024 #srilanka #IGF #apsig #igfsrilanka @followers Asia Pacific School on Internet Governance – APSIG
URL:https://lksig.org/event/preliminary-session-for-ge2024/
LOCATION:Colombo\, Sri Lanka
CATEGORIES:Children,Community,Education,Internet
ATTACH;FMTTYPE=image/jpeg:https://lksig.org/wp-content/uploads/2024/09/Preliminary-scaled.jpg
END:VEVENT
END:VCALENDAR